BEGIN:VCALENDAR
PRODID:-//eluceo/ical//2.0/EN
VERSION:2.0
CALSCALE:GREGORIAN
BEGIN:VEVENT
UID:event-181
DTSTAMP:20260423T190452Z
SUMMARY:Alumni Cantus: Dancing through the Decades
DESCRIPTION:Did you miss the last Alumni Cantus\, or does it already feel l
 ike ages ago? Then the Alumni Committee has some great news for you! On Sa
 turday\, May 16th\, there will be another Alumni Cantus\, but this time wi
 th a special twist: Dancing through the Decades Cantus! During this editi
 on\, we’ll take you on a musical journey through the decades. From timel
 ess classics of the ’60s and ’70s to hits from the new millennium\, we
 ’ll be singing them all together. Have you always wanted to belt out the
  biggest sing-along anthems from your era? Now’s your chance! And if you
 ’ve ever wanted to introduce a friend outside of Flow to the magic of a 
 cantus\, this is the perfect opportunity! For this event\, you can also br
 ing a plus-one to enjoy great beer and Flow’s best singing talents along
 side you. In short: come join the most fun cantus of the year on Saturday\
 , May 16th! Doors open at 19:30 at de Boekanier\, and starts at 20:00. P
 articipation costs just €22.50\, including unlimited beer\, fantastic so
 ngs\, and good old-fashioned fun. So don’t wait\, sign up quickly!  *Yo
 u are considered an alumnus/alumna of Flow if you have completed at least 
 one of the bachelor’s or master’s programs associated with Flow. AO wa
 rning: Loud music\, bright lights\, strobe
DTSTART:20260516T173000Z
DTEND:20260516T200000Z
END:VEVENT
BEGIN:VTIMEZONE
TZID:UTC
BEGIN:STANDARD
DTSTART:20260516T173000
TZNAME:UTC
TZOFFSETTO:+0000
TZOFFSETFROM:+0000
END:STANDARD
END:VTIMEZONE
END:VCALENDAR
