BEGIN:VCALENDAR
PRODID:-//eluceo/ical//2.0/EN
VERSION:2.0
CALSCALE:GREGORIAN
BEGIN:VEVENT
UID:event-191
DTSTAMP:20260423T190440Z
SUMMARY:Flow & cOLYMPICS: Cheers for Charity Cantus
DESCRIPTION:Feeling sporty? This year\, we have a very special edition of t
 he annual Flow &amp\; Co. Cantus lined up for you! Flow and Serve the City
  are teaming to present the Flow &amp\; cOLYMPICS : Cheers for Charity Can
 tus. All proceeds will go to Serve the City Tilburg\, an organization that
  actively supports vulnerable people in and around Tilburg. But as always\
 , this cantus is for both Flow members and non-members! Gather all your fr
 iends and family\, from both inside and outside Tilburg. The more\, the me
 rrier\, and the bigger the impact we can make in and around Tilburg. Get s
 porty with us for just 22.50 euros at Café de Boekanier on April 8th for 
 one of Serve- and Flow's biggest events\, ever! The doors will open at 19:
 30\, and the cantus kicks off at 20:00\, where you will be in for 2\,5h of
  unlimited beer! If you have any questions or concerns\, please contact us
  at party@svflow.nl.  Cheers! &gt\;&gt\; Buy your tickets here &lt\;&lt\;
  AO Warning: Loud music\, bright lights\, smoke machine
DTSTART:20260408T173000Z
DTEND:20260408T203000Z
END:VEVENT
BEGIN:VTIMEZONE
TZID:UTC
BEGIN:STANDARD
DTSTART:20260408T173000
TZNAME:UTC
TZOFFSETTO:+0000
TZOFFSETFROM:+0000
END:STANDARD
END:VTIMEZONE
END:VCALENDAR
