BEGIN:VCALENDAR
PRODID:-//eluceo/ical//2.0/EN
VERSION:2.0
CALSCALE:GREGORIAN
BEGIN:VEVENT
UID:event-58
DTSTAMP:20260422T005952Z
SUMMARY:Media Challenge: Tote Bags
DESCRIPTION:Unleash your creative talent at the Media Challenge! On Novembe
 r 26\, it is time to roll up your sleeves and let your creativity shine! T
 he Media Challenge has been completely revamped this year and is more fun 
 than ever. From 12:00 to 16:00 at the Cultuurtuin\, you can design your ow
 n tote bag with fabric markers\, needles\, and thread. Whether you want to
  create abstract art\, a self-portrait\, or the Flow logo – anything is 
 possible! You are the artist. And of course\, a challenge would not be a c
 hallenge without prizes! The three best creations will win an amazing priz
 e you won’t want to miss. Sign up quickly\, as spots are limited. Don’
 t miss your chance for a guaranteed free tote bag and the opportunity to w
 alk away with a prize!
DTSTART:20241126T110000Z
DTEND:20241126T150000Z
LOCATION:Cultuurtuin
END:VEVENT
BEGIN:VTIMEZONE
TZID:UTC
BEGIN:STANDARD
DTSTART:20241126T110000
TZNAME:UTC
TZOFFSETTO:+0000
TZOFFSETFROM:+0000
END:STANDARD
END:VTIMEZONE
END:VCALENDAR
