BEGIN:VCALENDAR
PRODID:-//eluceo/ical//2.0/EN
VERSION:2.0
CALSCALE:GREGORIAN
BEGIN:VEVENT
UID:event-65
DTSTAMP:20260420T231955Z
SUMMARY:Combi-Party: Rock 'N' Roll Cantus
DESCRIPTION:Are you a certified Rock 'N' Roller and are looking for a great
  time? Then join Complex\, Extra Muros\, Flow\, and Serve the City at the 
 Combi-Party: Rock 'N' Roll Cantus! For just €19\,80 you can enjoy an eve
 ning filled with your favorite Rock 'N' Roll songs and unlimited beer. Com
 e to Café de Boekanier (Stadhuisstraat 11\, 5038 XZ Tilburg) on the 29th
  of January to have a night you won't forget. Be sure to be on time\, as w
 alk-in starts at 20:00\, and the cantus starts at 20:30. Don't waste any m
 ore time—dress up in your favorite rockstar outfit\, and we hope to see 
 you there! AO warning Loud music\, bright lights
DTSTART:20250129T190000Z
DTEND:20250129T213000Z
END:VEVENT
BEGIN:VTIMEZONE
TZID:UTC
BEGIN:STANDARD
DTSTART:20250129T190000
TZNAME:UTC
TZOFFSETTO:+0000
TZOFFSETFROM:+0000
END:STANDARD
END:VTIMEZONE
END:VCALENDAR
